BEGIN:VCALENDAR
METHOD:PUBLISH
PRODID:www-chemistry-nat-fau-eu//Events//EN
VERSION:2.0
BEGIN:VEVENT
SUMMARY:Promotionsvortrag: Martin Brötsch\, Enzymmodellkomplexe und P
 HD2-Inhibitoren
UID:040000008200E00074C5B7101A82E0080000000060243BC19321DC010000000000
 000000100000001F31EAC6D11EE745874E50E6114E79DE
DESCRIPTION:Im Rahmen seines Promotionsverfahrens hält Herr Martin Br
 ötsch am Dienstag\, den 16. September 2025\, um 10.00 Uhr im Seminarr
 aum A 1.42\, Anorganische Chemie\, Egerlandstraße 1\, Erlangen einen 
 ca. halbstündigen wissenschaftlichen Vortrag mit dem Thema: Enzymmode
 llkomplexe und PHD2-Inhibitoren. Dem Vortrag schließt sich eine Disku
 ssion von 15 Minuten an. Vortrag und Diskussion sind öffentlich. Dies
 en Verfahrensteilen folgt ein nicht öffentliches Rigorosum von 45 Min
 uten.
DTSTART:20250916T080000Z
DTEND:20250916T084500Z
LOCATION:Seminarraum A 1.42\, Anorganische Chemie\, Egerlandstraße 1\
 , Erlangen
DTSTAMP:20260425T015551Z
END:VEVENT
END:VCALENDAR