BEGIN:VCALENDAR
METHOD:PUBLISH
PRODID:www-chemistry-nat-fau-eu//Events//EN
VERSION:2.0
BEGIN:VEVENT
SUMMARY:Weihnachtsvorlesung des JCF Erlangen-Nürnberg: Die Chemie der
  Schokolade
UID:040000008200E00074C5B7101A82E00800000000F0F150DE885FDC010000000000
 00000010000000B90E2407421BEB47A002C76C34049BED
DESCRIPTION:Das JungeChemieForum Erlangen-Nürnberg (JCF) lädt alle I
 nteressierten herzlich am Dienstag\, den 16. Dezember 2025 um 17.30 Uh
 r zur jährlichen Weihnachtsvorlesung ein. Diese findet auch dieses Ja
 hr wieder in Nürnberg im Hörsaal KA.002\, (TH Nürnberg KA-Gebäude)
  am Keßlerplatz 12 statt. Zu Gast ist dieses Jahr Hr. Prof Valentin C
 epus\, der mit seinem Vortrag Die Chemie der Schokolade in einige Gehe
 imnisse der beliebten Süßigkeit einweihen möchte\, darunter: * Wo k
 ommt die Schokolade ursprünglich her und wie wird sie hergestellt? * 
 Welche Moleküle führen zum einzigartigen Geschmack der Schokolade? *
  Hat Schokolade auch eine berauschende Wirkung? Das JCF freut sich auf
  einen schönen gemeinsamen Abend mit allen interessierten Zuhörerinn
 en und Zuhörern in gemütlicher Atmosphäre mit Glühwein\, Punsch un
 d Plätzchen (for free\, solange der Vorrat reicht). Weitere Infos und
  unser Kontakt ist hier zu finden: https://jcf.io/erlangen-nuernberg/
DTSTART:20251216T163000Z
DTEND:20251216T180000Z
LOCATION:Hörsaal KA.002\, (TH Nürnberg KA-Gebäude)\, Keßlerplatz 1
 2\, Nürnberg
DTSTAMP:20260423T152358Z
END:VEVENT
END:VCALENDAR